BEGIN:VCALENDAR
VERSION:2.0
PRODID:-//Ajuntament d&#039;Aldaia - ECPv6.15.15//NONSGML v1.0//EN
CALSCALE:GREGORIAN
METHOD:PUBLISH
X-WR-CALNAME:Ajuntament d&#039;Aldaia
X-ORIGINAL-URL:https://aldaia.es
X-WR-CALDESC:Esdeveniments per Ajuntament d&#039;Aldaia
REFRESH-INTERVAL;VALUE=DURATION:PT1H
X-Robots-Tag:noindex
X-PUBLISHED-TTL:PT1H
BEGIN:VTIMEZONE
TZID:Europe/Madrid
BEGIN:DAYLIGHT
TZOFFSETFROM:+0100
TZOFFSETTO:+0200
TZNAME:CEST
DTSTART:20250330T010000
END:DAYLIGHT
BEGIN:STANDARD
TZOFFSETFROM:+0200
TZOFFSETTO:+0100
TZNAME:CET
DTSTART:20251026T010000
END:STANDARD
BEGIN:DAYLIGHT
TZOFFSETFROM:+0100
TZOFFSETTO:+0200
TZNAME:CEST
DTSTART:20260329T010000
END:DAYLIGHT
BEGIN:STANDARD
TZOFFSETFROM:+0200
TZOFFSETTO:+0100
TZNAME:CET
DTSTART:20261025T010000
END:STANDARD
BEGIN:DAYLIGHT
TZOFFSETFROM:+0100
TZOFFSETTO:+0200
TZNAME:CEST
DTSTART:20270328T010000
END:DAYLIGHT
BEGIN:STANDARD
TZOFFSETFROM:+0200
TZOFFSETTO:+0100
TZNAME:CET
DTSTART:20271031T010000
END:STANDARD
END:VTIMEZONE
BEGIN:VEVENT
DTSTART;TZID=Europe/Madrid:20260422T180000
DTEND;TZID=Europe/Madrid:20260422T200000
DTSTAMP:20260422T084246
CREATED:20260330T104036Z
LAST-MODIFIED:20260330T104336Z
UID:41411-1776880800-1776888000@aldaia.es
SUMMARY:Cicle de cultura clàssica “L’amor en la Grècia antiga” a càrrec d’Ángel Narro
DESCRIPTION:
URL:https://aldaia.es/event/cicle-de-cultura-classica-lamor-en-la-grecia-antiga-a-carrec-dangel-narro/
LOCATION:Biblioteca Municipal\, Plaça de la Cultura s/n\, Aldaia\, Valencia\, 46960\, España
CATEGORIES:Esdeveniments
ATTACH;FMTTYPE=image/png:https://aldaia.es/wp-content/uploads/2026/03/cicle-.png
END:VEVENT
END:VCALENDAR